BEGIN:VCALENDAR
VERSION:2.0
PRODID:-// - ECPv6.15.17.1//NONSGML v1.0//EN
CALSCALE:GREGORIAN
METHOD:PUBLISH
X-ORIGINAL-URL:https://cuanticanvas.com
X-WR-CALDESC:Eventos para 
REFRESH-INTERVAL;VALUE=DURATION:PT1H
X-Robots-Tag:noindex
X-PUBLISHED-TTL:PT1H
BEGIN:VTIMEZONE
TZID:Europe/Madrid
BEGIN:DAYLIGHT
TZOFFSETFROM:+0100
TZOFFSETTO:+0200
TZNAME:CEST
DTSTART:20250330T010000
END:DAYLIGHT
BEGIN:STANDARD
TZOFFSETFROM:+0200
TZOFFSETTO:+0100
TZNAME:CET
DTSTART:20251026T010000
END:STANDARD
BEGIN:DAYLIGHT
TZOFFSETFROM:+0100
TZOFFSETTO:+0200
TZNAME:CEST
DTSTART:20260329T010000
END:DAYLIGHT
BEGIN:STANDARD
TZOFFSETFROM:+0200
TZOFFSETTO:+0100
TZNAME:CET
DTSTART:20261025T010000
END:STANDARD
BEGIN:DAYLIGHT
TZOFFSETFROM:+0100
TZOFFSETTO:+0200
TZNAME:CEST
DTSTART:20270328T010000
END:DAYLIGHT
BEGIN:STANDARD
TZOFFSETFROM:+0200
TZOFFSETTO:+0100
TZNAME:CET
DTSTART:20271031T010000
END:STANDARD
END:VTIMEZONE
BEGIN:VEVENT
DTSTART;TZID=Europe/Madrid:20260502T100000
DTEND;TZID=Europe/Madrid:20260502T130000
DTSTAMP:20260422T122225
CREATED:20260304T203232Z
LAST-MODIFIED:20260310T124638Z
UID:3793-1777716000-1777726800@cuanticanvas.com
SUMMARY:Taller de papercraft - Corazón Dia de las Madres
DESCRIPTION:Celebra el Día de la Madre en Barcelona creando un regalo único y significativo. En este taller creativo de papercraft realizaremos un corazón tridimensional de papel\, diseñado para regalar con intención y emoción. Más que una manualidad\, es una experiencia de arteterapia donde el proceso creativo se convierte en un acto de gratitud hacia la figura materna. El corazón terminado se entregará en una caja de regalo lista para sorprender. Cerraremos con un momento guiado de conexión y sanación del linaje femenino. \nQué harás en el taller\nLos participantes construirán un corazón geométrico 3D utilizando la técnica de papercraft (plegado\, ensamblaje y acabado en papel) mientras se escuchan canciones de vibraciones sanadoras. Trabajarás paso a paso con guía personalizada hasta completar la pieza. Al finalizar\, prepararás el corazón dentro de su caja de regalo y participarás en una breve experiencia de gratitud y conexión con el femenino sagrado. \nCada participante: \n\nElegirá entre 3 colores disponibles de papel\nConstruirá un corazón de papel tridimensional midiendo 17cm X15cm x 7cm\nIntegrará intención y significado en la pieza\n\nAl final\, tendrás un regalo listo para entregar\, protegido en su caja y con acabado cuidado. \n \nRitual creativo de gratitud\nEl taller cerrará con un ejercicio creativo y una breve meditación guiada de gratitud hacia las madres y el linaje femenino. Un momento simbólico para integrar la experiencia creativa\, reconocer vínculos y conectar con la intención del regalo. \nEsto transforma el objeto en un gesto consciente\, no solo estético. \n  \nQué incluye el taller\nTodos los materiales y herramientas están incluidos: \n\nMolde de corazón tridimensional en 3 colores disponibles a elegir\nRegla\, tijeras y punzón\nCola y pincel\nCaja de regalo para llevar el corazón hecho\nAcompañamiento guiado durante todo el proceso\nMeditación de integración + carta de gratitud para a Mamá\nBebidas (agua o té)\n\nPorque este taller te va a encantar\nPorque combina creatividad\, emoción y significado en una sola experiencia. No solo se llevan un regalo hecho a mano para el Día de la Madre\, sino también la satisfacción de haberlo creado con intención. La técnica genera concentración\, calma y una fuerte sensación de logro al ver la forma tridimensional completada. \nEl enfoque integra arteterapia aplicada: el proceso de construcción paso a paso favorece presencia\, regulación emocional y conexión interna. El cierre incluye un momento guiado de gratitud y sanación del linaje femenino\, invitando a resignificar la relación con la madre y con el sagrado femenino. \nDuración\n3 horas \nObservaciones/ Limitaciones\nNo se requiere experiencia previa. Taller dirigido a adultos o jóvenes a partir de 14 años. Plazas limitadas para garantizar acompañamiento personalizado. Se recomienda puntualidad.
URL:https://cuanticanvas.com/event/taller-de-papercraft-corazon-dia-de-las-madres-4/
LOCATION:Cuanticanvas\, Calle Clot\, 133 bajos 2\, Barcelona\, Barcelona\, 08026\, Spain
CATEGORIES:Manualidades
ATTACH;FMTTYPE=image/jpeg:https://cuanticanvas.com/wp-content/uploads/2026/02/3.jpg
ORGANIZER;CN="Hologat":MAILTO:hologatbcn@gmail.com
END:VEVENT
END:VCALENDAR