BEGIN:VCALENDAR
VERSION:2.0
PRODID:-// - ECPv6.15.17.1//NONSGML v1.0//EN
CALSCALE:GREGORIAN
METHOD:PUBLISH
X-ORIGINAL-URL:https://cuanticanvas.com
X-WR-CALDESC:Eventos para 
REFRESH-INTERVAL;VALUE=DURATION:PT1H
X-Robots-Tag:noindex
X-PUBLISHED-TTL:PT1H
BEGIN:VTIMEZONE
TZID:Europe/Madrid
BEGIN:DAYLIGHT
TZOFFSETFROM:+0100
TZOFFSETTO:+0200
TZNAME:CEST
DTSTART:20250330T010000
END:DAYLIGHT
BEGIN:STANDARD
TZOFFSETFROM:+0200
TZOFFSETTO:+0100
TZNAME:CET
DTSTART:20251026T010000
END:STANDARD
BEGIN:DAYLIGHT
TZOFFSETFROM:+0100
TZOFFSETTO:+0200
TZNAME:CEST
DTSTART:20260329T010000
END:DAYLIGHT
BEGIN:STANDARD
TZOFFSETFROM:+0200
TZOFFSETTO:+0100
TZNAME:CET
DTSTART:20261025T010000
END:STANDARD
BEGIN:DAYLIGHT
TZOFFSETFROM:+0100
TZOFFSETTO:+0200
TZNAME:CEST
DTSTART:20270328T010000
END:DAYLIGHT
BEGIN:STANDARD
TZOFFSETFROM:+0200
TZOFFSETTO:+0100
TZNAME:CET
DTSTART:20271031T010000
END:STANDARD
END:VTIMEZONE
BEGIN:VEVENT
DTSTART;TZID=Europe/Madrid:20260423T190000
DTEND;TZID=Europe/Madrid:20260423T200000
DTSTAMP:20260422T104519
CREATED:20260305T122520Z
LAST-MODIFIED:20260310T124750Z
UID:3841-1776970800-1776974400@cuanticanvas.com
SUMMARY:Cómo tocar handpan - taller introductorio
DESCRIPTION:Descubre el sonido envolvente del handpan en este taller introductorio en Barcelona\, diseñado para quienes desean iniciarse en este instrumento intuitivo y meditativo. Aprenderás las bases esenciales: estructura del instrumento\, distribución de notas y técnica básica de ejecución. No necesitas experiencia musical previa ni disponer de handpan propio. Una experiencia sonora que combina creatividad\, ritmo y conexión interior. \nQué harás en el taller\n\nConocer la estructura y afinación básica del handpan.\nAprender la técnica correcta de golpeo con manos y dedos.\nPracticar patrones rítmicos simples y combinaciones de notas.\nExplorar dinámicas\, tempo y fluidez sonora.\nReproducir pequeñas secuencias musicales hasta poder tocar fragmentos de canciones de forma autónoma.\n\n \nQué incluye el taller\n\nUso de handpan durante la sesión (no es necesario traer instrumento).\nIntroducción teórica básica sobre escalas y notas.\nEjercicios prácticos guiados paso a paso.\nMaterial de apoyo (apostila online) con patrones rítmicos sencillos.\nAcompañamiento individual y personalizado.\n\nPor qué este taller te va a encantar\nEl handpan es un instrumento accesible y profundamente intuitivo: desde la primera sesión experimentarás la satisfacción de producir sonidos armónicos y envolventes. Su vibración favorece la relajación\, la concentración y la regulación emocional. A nivel creativo\, permite improvisar sin miedo al error\, estimulando escucha activa y confianza musical. Es una experiencia que combina aprendizaje\, disfrute sonoro y conexión interior en un entorno grupal inspirador. \n \nDuración\n1 hora. \nObservaciones / Limitaciones\nNo se requieren conocimientos musicales previos. Taller dirigido a adultos y jóvenes a partir de 12 años. Plazas limitadas para garantizar práctica individual con instrumento. Se recomienda puntualidad para aprovechar la parte técnica inicial.
URL:https://cuanticanvas.com/event/como-tocar-handpan-taller-introductorio/
LOCATION:Cuanticanvas\, Calle Clot\, 133 bajos 2\, Barcelona\, Barcelona\, 08026\, Spain
CATEGORIES:Musica
ATTACH;FMTTYPE=image/jpeg:https://cuanticanvas.com/wp-content/uploads/2026/03/clase-de-handpan.jpg
END:VEVENT
END:VCALENDAR