BEGIN:VCALENDAR
VERSION:2.0
PRODID:-// - ECPv6.15.17.1//NONSGML v1.0//EN
CALSCALE:GREGORIAN
METHOD:PUBLISH
X-ORIGINAL-URL:https://cuanticanvas.com
X-WR-CALDESC:Eventos para 
REFRESH-INTERVAL;VALUE=DURATION:PT1H
X-Robots-Tag:noindex
X-PUBLISHED-TTL:PT1H
BEGIN:VTIMEZONE
TZID:Europe/Madrid
BEGIN:DAYLIGHT
TZOFFSETFROM:+0100
TZOFFSETTO:+0200
TZNAME:CEST
DTSTART:20250330T010000
END:DAYLIGHT
BEGIN:STANDARD
TZOFFSETFROM:+0200
TZOFFSETTO:+0100
TZNAME:CET
DTSTART:20251026T010000
END:STANDARD
BEGIN:DAYLIGHT
TZOFFSETFROM:+0100
TZOFFSETTO:+0200
TZNAME:CEST
DTSTART:20260329T010000
END:DAYLIGHT
BEGIN:STANDARD
TZOFFSETFROM:+0200
TZOFFSETTO:+0100
TZNAME:CET
DTSTART:20261025T010000
END:STANDARD
BEGIN:DAYLIGHT
TZOFFSETFROM:+0100
TZOFFSETTO:+0200
TZNAME:CEST
DTSTART:20270328T010000
END:DAYLIGHT
BEGIN:STANDARD
TZOFFSETFROM:+0200
TZOFFSETTO:+0100
TZNAME:CET
DTSTART:20271031T010000
END:STANDARD
END:VTIMEZONE
BEGIN:VEVENT
DTSTART;TZID=Europe/Madrid:20260523T150000
DTEND;TZID=Europe/Madrid:20260523T180000
DTSTAMP:20260422T222718
CREATED:20260305T112658Z
LAST-MODIFIED:20260316T130550Z
UID:3811-1779548400-1779559200@cuanticanvas.com
SUMMARY:Mini Mandala 3D en papel
DESCRIPTION:Descubre el poder simbólico de la geometría sagrada creando tu propio Mini Mandala 3D en papel en este taller creativo de papercraft en Barcelona. A través de la técnica de plegado y ensamblaje en papel\, construirás una figura tridimensional inspirada en la estructura de los mandalas\, símbolos universales de equilibrio\, armonía y centro interior. \nMás que una manualidad\, es una experiencia de creación consciente donde el proceso artístico se convierte en un espacio de enfoque\, calma y conexión con una intención personal. Cerraremos el taller con una breve meditación de integración basada en la geometría sagrada y el propósito que cada participante haya puesto en su creación. \nQué harás en el taller\nAprenderás a construir un mandala geométrico tridimensional utilizando la técnica de papercraft\, que consiste en transformar superficies planas de papel en estructuras volumétricas mediante plegado\, marcado y ensamblaje con cola. \nTrabajarás paso a paso con guía personalizada hasta completar tu pieza mientras se escuchan músicas de vibración armónica que acompañan el proceso creativo. \nCada participante:\n\n\nElegirá entre 4 colores disponibles\, cada uno asociado a una intención simbólica (prosperidad\, amor\, espiritualidad o salud). \n\n\nConstruirá un mini mandala tridimensional en papel utilizando técnicas de marcado\, plegado y ensamblaje. \n\n\nIntegrará una intención personal en su proceso creativo. \n\n\nAprenderá los fundamentos básicos del papercraft aplicado a formas geométricas. \n\n\nAl finalizar\, tendrás una pieza artística tridimensional lista para decorar un espacio personal o acompañar prácticas de meditación. \n \nRitual creativo de integración\nEl taller cerrará con una breve meditación guiada de integración\, inspirada en la geometría sagrada y en la intención que cada persona haya puesto en su mandala. \nEste momento permite observar la figura creada como un símbolo personal de equilibrio\, foco y propósito\, transformando la pieza en algo más que un objeto estético: un recordatorio visual de la intención cultivada durante el proceso creativo. \n  \nQué incluye el taller\nTodos los materiales y herramientas están incluidos: \n\nMolde de mini mandala tridimensional en 4 colores disponibles\nRegla\, tijeras y punzón\nCola y pincel\nMarco pintado para pegar la mandala\nAcompañamiento guiado durante todo el proceso\nMeditación de integración con geometría sagrada\nBebidas (agua o té)\n\nPorque este taller te va a encantar\nPorque combina creatividad\, arte y significado en una experiencia accesible para cualquier persona. La técnica de papercraft genera concentración y presencia\, mientras la repetición de patrones geométricos favorece calma mental y enfoque. \nDesde una perspectiva terapéutica\, trabajar con mandalas ayuda a organizar simbólicamente el mundo interior\, promoviendo equilibrio emocional y claridad. Además\, experimentarás la satisfacción de transformar un simple papel en una figura tridimensional llena de intención y belleza. \n \nDuración\n3 horas \nObservaciones/ Limitaciones\nNo se requiere experiencia previa. Taller dirigido a adultos o jóvenes a partir de 14 años. Plazas limitadas para garantizar acompañamiento personalizado. Se recomienda puntualidad.
URL:https://cuanticanvas.com/event/mandala-de-papel-3d/
LOCATION:Cuanticanvas\, Calle Clot\, 133 bajos 2\, Barcelona\, Barcelona\, 08026\, Spain
CATEGORIES:Manualidades
ATTACH;FMTTYPE=image/jpeg:https://cuanticanvas.com/wp-content/uploads/2026/03/Taller-de-mandala-3d.jpg
ORGANIZER;CN="Hologat":MAILTO:hologatbcn@gmail.com
END:VEVENT
END:VCALENDAR